BEGIN:VCALENDAR
VERSION:2.0
PRODID:-//http://dwh.co.il///NONSGML kigkonsult.se iCalcreator 2.10.15//
METHOD:PUBLISH
BEGIN:VEVENT
UID:20210519T232312UTC-2119wHp9Gh@http://dwh.co.il/
DTSTAMP:20210519T232312Z
DESCRIPTION:המפגש הקרוב של הקהילה הטכנולוגית של ilOUG\, ארגון משתמשי אורקל 
 בישראל\, יתקיים ביום שלישי 24/10/2017 בשעה 14:00.\n\nבמפגש זה יתקיימו שלוש
  הרצאות על תכונות חדשות באורקל 12c והענן: אורן נקדימון ועמי אהרונוביץ' יעד
 כנו על ההכרזות ועל האירועים השונים שהתקיימו ב-Oracle Open World השנה. לאחר
  מכן עמי יעביר את ההרצאה שהעביר בכנס על הדברים החדשים שיש בפרטישנים בגרסה 
 החדשה. יוסי ניקסון ידבר על Data Guard ואיך להוציא את המירב ממנו בגרסה 12 ו
 מישל בן אוליאל מאורקל יספר על Oracle Cloud והשימוש ב-Ravello.\nלהלן סדר הי
 ום של המפגש:\n14:00-14:30 התמנגלות\n14:30-14:50 עדכונים על Oracle Open Wor
 ld\n14:50-15:30 פרטישונים באורקל 12c\n15:30-15:50 הפסקה\n15:50-16:50 Oracl
 e Ravello\n16:50-17:15 הפסקה\n17:15-18:00&nbsp\;Oracle 12c Data Guard\n&nb
 sp\;\nלפרטים נוספים והרשמה\, הכנוס ללינק הבא. http://dwh.co.il/events/even
 t/129-4
DTSTART:20171024T110000Z
DTEND:20171024T150000Z
LOCATION:משרדי אורקל החדשים (אהרון ברט 18\, פתח תקווה)
SUMMARY:מפגש משתמשי אורקל #4
URL:http://dwh.co.il/events/event/129-4
END:VEVENT
END:VCALENDAR
