BEGIN:VCALENDAR
VERSION:2.0
PRODID:-//http://dwh.co.il///NONSGML kigkonsult.se iCalcreator 2.10.15//
METHOD:PUBLISH
BEGIN:VEVENT
UID:20210519T232305UTC-2324DbHp2x@http://dwh.co.il/
DTSTAMP:20210519T232305Z
DESCRIPTION:בתאריך ה4.12.2017 יתקיים מפגש נוסף של&nbsp\;קבוצת Data Platform
 .\n\nלהלן לו'ז של המפגש:\n17:30-18:00 התמנגלות\n18:00-18:15 דברי פתיחה\n18
 :15-19:00 מושב ראשון בנושא טיפים לאופטימיזר\, מתן יונגמן\n19:00-19:30 הפסק
 ת התמנגלות נוספת.\n19:30-20:30 מושב שני בנושא&nbsp\;Adaptive Query Process
 ing (שאילתות המשנות את הExecution plan בזמן ריצה)\, עדי כהן.\n&nbsp\;\nלפר
 טים נוספים והרשמה\, הכנסו ללינק הבא.\n&nbsp\; http://dwh.co.il/events/even
 t/130-2017-data-platform
DTSTART:20171204T153000Z
DTEND:20171204T183000Z
LOCATION:מיקרוסופט\, ישראל (הפנינה 5\, רעננה\, ישראל)
SUMMARY:מפגש דצמבר 2017 של קבוצת Data Platform
URL:http://dwh.co.il/events/event/130-2017-data-platform
END:VEVENT
END:VCALENDAR
