BEGIN:VCALENDAR
VERSION:2.0
PRODID:-//http://dwh.co.il///NONSGML kigkonsult.se iCalcreator 2.10.15//
METHOD:PUBLISH
BEGIN:VEVENT
UID:20210519T232256UTC-4799eHISv1@http://dwh.co.il/
DTSTAMP:20210519T232256Z
DESCRIPTION:בתאריך ה21.11.2017 יתקיים מפגש של Cloud BI Tel-Aviv בנושא\, חשי
 פת&nbsp\; הכח של המידע שלך.\n\nבמפגש יתקימו שתי הרצאות:\nיצירת Machine Lea
 rning Pipelines\, יוני ינאי\, שותף וCTO בupsolver.\nהבנת מידע של הלקוח\, י
 ניב מור\, מייסד ומנכ'ל Xplenty.\nלפרטים נוספים והרשמה\, הכנסו ללינק הבא. h
 ttp://dwh.co.il/events/event/131-
DTSTART:20171121T160000Z
DTEND:20171121T190000Z
LOCATION:משרדי חברת DoIT international (Rav Aluf David Elazar St 12\, Tel A
 viv-Yafo\, Israel)
SUMMARY:מפגש בנושא:חשיפת  הכח של המידע שלך
URL:http://dwh.co.il/events/event/131-
END:VEVENT
END:VCALENDAR
