BEGIN:VCALENDAR
VERSION:2.0
PRODID:-//http://dwh.co.il///NONSGML kigkonsult.se iCalcreator 2.10.15//
METHOD:PUBLISH
BEGIN:VEVENT
UID:20210519T170409UTC-9724K5oZHO@http://dwh.co.il/
DTSTAMP:20210519T170409Z
DESCRIPTION:בתאריך ה2.1.2018 יתקיים מפגש בנושא דוגמאות מהשטח של Big Data Sc
 ience.\n\n&nbsp\;בתוכנית :\n17:30-18:00 התמנגלות\n18:00-18:25&nbsp\; כיצד 
 צוות קטן מישראל משנה את חברת ייעוץ הIT המובילה בעולם\,&nbsp\; זאבי מיקהל\,
  חברת גרטנר&nbsp\;\n18:30-18:55 Big Data מוביל לאתגרים גדולים באבטחת המולד
 ת\, רותם יואלי\,חברת Athena\n19:00-19:25 מSpark לElasticSearch ובחזרה למוד
 לים של מנועי המלצות.\nלפרטים נוספים והרשמה. הקישו כאן.\n&nbsp\;\n&nbsp\;\n
 &nbsp\; http://dwh.co.il/events/event/138-bigdata
DTSTART:20180102T153000Z
DTEND:20180102T173000Z
LOCATION:המרכז האקדמי רופין (המרכז האקדמי רופין)
SUMMARY:מפגש בנושא BigData ברופין
URL:http://dwh.co.il/events/event/138-bigdata
END:VEVENT
END:VCALENDAR
