BEGIN:VCALENDAR
VERSION:2.0
PRODID:-//http://dwh.co.il///NONSGML kigkonsult.se iCalcreator 2.10.15//
METHOD:PUBLISH
BEGIN:VEVENT
UID:20210519T170334UTC-0095gJTrlL@http://dwh.co.il/
DTSTAMP:20210519T170334Z
DESCRIPTION:בתאריך ה14.1.2018 יתקיים מפגש בנושא Apache Beam.\n\nבמפגש זה\, 
 יסוקרו 4 עקרונות הבסיס של Apache Beam:\nמה\nאיפה\nמתי\nאיך\n&nbsp\;\nההרצא
 ה תועבר על ידי חיים טורקל מחברת Tikal.\nכדי לקרוא עוד ולהרשמה\, הכנסו ללינ
 ק הבא:\n&nbsp\;\n&nbsp\;\n&nbsp\; http://dwh.co.il/events/event/139-apache
 -beam
DTSTART:20180114T153000Z
DTEND:20180114T173000Z
LOCATION:משרדי חברת Tikal (Kiryat Atidim\, Building 7\, 3rd Floor\, POB 582
 69\, Tel Aviv-Yafo\, 6158102\, Israel)
SUMMARY:מפגש בנושא Apache Beam
URL:http://dwh.co.il/events/event/139-apache-beam
END:VEVENT
END:VCALENDAR
