BEGIN:VCALENDAR
VERSION:2.0
PRODID:-//http://dwh.co.il///NONSGML kigkonsult.se iCalcreator 2.10.15//
METHOD:PUBLISH
BEGIN:VEVENT
UID:20210517T173310UTC-3961vKVrGv@http://dwh.co.il/
DTSTAMP:20210517T173310Z
DESCRIPTION:בתאריך ה5.3.2018 יתקיים מפגש חודש מרץ של קבוצת Data Platform.\n
 \nבתוכנית הפעם:\n17:30-18:00 התמנגלות\n18:00-18:15 דברי פתיחה\n18:15-19:15
 &nbsp\; שיחה בנושא 'עונים על השאלה \, מה קרה? עם Query Store'\n19:15-19:30
  הפסקה\n19:30-20:30 שיחה בנושא ' מהפיכת הפיתון בעולם הSQL Server'\n&nbsp\;
 \nלהרשמה ולפרטים נוספים בלינק הזה.\n&nbsp\; http://dwh.co.il/events/event/
 151-2018-data-platform
DTSTART:20180305T153000Z
DTEND:20180305T183000Z
LOCATION:מיקרוסופט\, ישראל (הפנינה 5\, רעננה\, ישראל)
SUMMARY:מפגש מרץ 2018-data platform
URL:http://dwh.co.il/events/event/151-2018-data-platform
END:VEVENT
END:VCALENDAR
