BEGIN:VCALENDAR
VERSION:2.0
PRODID:-//http://dwh.co.il///NONSGML kigkonsult.se iCalcreator 2.10.15//
METHOD:PUBLISH
BEGIN:VEVENT
UID:20210515T211231UTC-5765jKNwE8@http://dwh.co.il/
DTSTAMP:20210515T211231Z
DESCRIPTION:בתאריך ב5.8.2019 יתקיים&nbsp\;מפגש אוגוסט 2019 של קבוצת Data pl
 atform meetup Israel.\nבתוכנית:\n17:30:00-18:00:00 התמנגלות.\n18:00:00-18:
 15:00 דברי פתיחה.\n18:15:00-19:15:00 מפגש ראשון\,&nbsp\;Resource Governor.
 \n19:15:00-19:30:00 הפסקה.\n19:30:00-20:45 ארכיטקטורת&nbsp\;Hybrid AO SQL.
 \n&nbsp\;\nלפרטים נוספים והרשמה\, הכנסו ללינק הבא. http://dwh.co.il/events
 /event/202-2019-data-platform-meetup-israel
DTSTART:20190805T143000Z
DTEND:20190805T173000Z
LOCATION:מיקרוסופט\, ישראל (הפנינה 5\, רעננה\, ישראל)
SUMMARY:מפגש אוגוסט 2019 של קבוצת Data platform meetup Israel
URL:http://dwh.co.il/events/event/202-2019-data-platform-meetup-israel
END:VEVENT
END:VCALENDAR
