BEGIN:VCALENDAR
VERSION:2.0
PRODID:-//http://dwh.co.il///NONSGML kigkonsult.se iCalcreator 2.10.15//
METHOD:PUBLISH
BEGIN:VEVENT
UID:20210515T211204UTC-0111vPCvoW@http://dwh.co.il/
DTSTAMP:20210515T211204Z
DESCRIPTION:בתאריך ה31.7.2019 יתקיים מפגש בנושא&nbsp\;BD &amp\; ML: Pipelin
 e Management for Big Data.\nבתוכנית:\n18:00-18:20 התמנגלות\n18:20-18:50 \,
  Panopticon\, אייל שלו מAmobee\n18:50-19:05 התמנגלות #2\n19:05-19:35 גולת 
 הכותרת של&nbsp\;CVPR 2019\, עובדיה מנדבה\, חברת Percepto.\n19:35-20:00 התמ
 נגלות #3\, ודיון.\n&nbsp\;\nלהרשמה ופרטים נוספים\, הכנסו ללינק הבא.\n&nbsp
 \; http://dwh.co.il/events/event/203-bd-ml-pipeline-management-for-big-dat
 a
DTSTART:20190731T150000Z
DTEND:20190731T170000Z
LOCATION:משרדי Amobee (מנחם בגין 125 מגדל היובל\, בניין קרית הממשלה · Tel-A
 viv)
SUMMARY:מפגש בנושא BD & ML: Pipeline Management for Big Data
URL:http://dwh.co.il/events/event/203-bd-ml-pipeline-management-for-big-dat
 a
END:VEVENT
END:VCALENDAR
