BEGIN:VCALENDAR
VERSION:2.0
PRODID:-//http://dwh.co.il///NONSGML kigkonsult.se iCalcreator 2.10.15//
METHOD:PUBLISH
BEGIN:VEVENT
UID:20210515T125952UTC-7541Mvh6g3@http://dwh.co.il/
DTSTAMP:20210515T125952Z
DESCRIPTION:בתאריך ה1.1.2020 תתקיים סדנא בנושא Tensorflow על Sagemaker.\n\n
 מי שלא מכיר \, Tensorflow היא ספריית קוד פתוח לפיתוח ישומי ML.\nSagemaker 
 היא פלטפורמה לפיתוח ישומי ML של חברת Amazon.\nדרישת קדם לסדנא היא ידע בML 
 ובפייתון.\nלהלן סדר היום:\n17:00-17:20 התמנגלות\n17:20-20:00 סדנא\n&nbsp\;
 \nלהרשמה ולפרטים נוספים הכנסו ללינק הזה. http://dwh.co.il/events/event/216
 -aws-tensorflow-sagemaker
DTSTART:20200101T150000Z
DTEND:20200101T180000Z
LOCATION:משרדי AWS (Derech Menachem Begin 121\, Tel Aviv-Yafo\, Israel)
SUMMARY:מפגש של AWS:  הTensorflow בSagemaker
URL:http://dwh.co.il/events/event/216-aws-tensorflow-sagemaker
END:VEVENT
END:VCALENDAR
