BEGIN:VCALENDAR
VERSION:2.0
PRODID:-//http://dwh.co.il///NONSGML kigkonsult.se iCalcreator 2.10.15//
METHOD:PUBLISH
BEGIN:VEVENT
UID:20210515T125930UTC-4356g0Glta@http://dwh.co.il/
DTSTAMP:20210515T125930Z
DESCRIPTION:בתאריך ה6.1.2020 יתקיים מפגש בנושא Deep learning + גרפים.\n\n&n
 bsp\;בתוכנית:\n18:30-19:00 התמנגלות\n19:00-20:00 מפגש ראשון\, למידה על גרא
 פים\, אוריאל זינגר\n20:10-21:00 גרפים ורשתות ניורנים\, ים פלג.\nלהרשמה ולפ
 רטים נוספים\, הכנסו ללינק הזה.\n&nbsp\; http://dwh.co.il/events/event/217-
 deep-learning-graphs
DTSTART:20200106T163000Z
DTEND:20200106T183000Z
LOCATION:משרדי Taboola (Ze'ev Jabotinsky St 2 · Ramat Gan)
SUMMARY:מפגש בנושא השילוב הקסום של Deep learning וGraphs
URL:http://dwh.co.il/events/event/217-deep-learning-graphs
END:VEVENT
END:VCALENDAR
