BEGIN:VCALENDAR
VERSION:2.0
PRODID:-//http://dwh.co.il///NONSGML kigkonsult.se iCalcreator 2.10.15//
METHOD:PUBLISH
BEGIN:VEVENT
UID:20210515T084341UTC-5769S4ZulP@http://dwh.co.il/
DTSTAMP:20210515T084341Z
DESCRIPTION:בתאריך ה20.1.2020 יתקיים מפגש בנושא SQL Server 2019 ששוחררה לאח
 רונה.\n\n&nbsp\;במפגש ישתתפו כל המי ומי בתחום:\nאיתי בנימין\nאיתן בלומין\n
 דוד טריגנו\nיוסי אלקיים\nליאור קינג\nרונן אריאלי\nגיא גלנסטר\n&nbsp\;\nלהר
 שמה ולפרטים נוספים הכנסו ללינק הזה. http://dwh.co.il/events/event/218-sql-
 server-2019
DTSTART:20200120T153000Z
DTEND:20200120T193000Z
LOCATION:Microsoft Reactor Tel Aviv (Dubnov St 7 · Tel Aviv-Yafo)
SUMMARY:חוגגים את השנה החדשה עם SQL Server 2019
URL:http://dwh.co.il/events/event/218-sql-server-2019
END:VEVENT
END:VCALENDAR
