BEGIN:VCALENDAR
VERSION:2.0
PRODID:-//http://dwh.co.il///NONSGML kigkonsult.se iCalcreator 2.10.15//
METHOD:PUBLISH
BEGIN:VEVENT
UID:20210514T232741UTC-6509lb55wS@http://dwh.co.il/
DTSTAMP:20210514T232741Z
DESCRIPTION:בתאריך ה16.6.2020 יתקיים כנס Put AI to Work.\n\n&nbsp\;להלן לו'
 ז הכנס:\nבמה מרכזית:\n09:30 דברי פתיחה\, דרור גלוברמן\n09:35 להשתמש בAI לע
 בודה\, דניאל מלכה\,IBM\n09:43 העתיד של AI לפי IBM והתגובה לקורונה\, איה סו
 פר\n09:51 Blockchain וIoT\, גבי זודיק\n09:59 סיפור לקוח\, משרד הבריאות \, 
 רונה קייזר \, דרור בן משה\n10:07 ארכיטקטורה מידע בזמנים משתנים\, רענון רוט
 לינגר\nמסלול Data Science:\n10:45 החדרת AI לקבלת החלטות\,Ann-Elise Delbecq
 \n11:00 בניית מודלי AI באמצעות Watson\, עומר מזרחי\n11:15 הפסקה\n11:30 5&n
 bsp\; סיבות מדוע פרוייקטים של DS נכשלים\,&nbsp\; נתן כץ\n11:40 ניהול AI עם
  ביטחון ושקיפות עם&nbsp\;IBM Watson OpenScale\, רענון רוטלינגר\n11:50 שימו
 שים בIBM Cloud Pak\, תומר ורמוט\n12:00 הפסקה\n12:15 פיתוח מהיר של ML\, תומ
 ר גלולה.\n&nbsp\;\nבמה מרכזית:\n12:30 אוטומציה בבניית מודלי AI\, טל נאמן\n
 13:30 פאנל מומחים \, מידע והאצת AI \, רונן סימנטוב\, רות מרגלית\, ניר בר ל
 ב\n14:30 הערות סיכום\n15:00 בניית מודלי ML\n&nbsp\;\nלהרשמה ולפרטים נוספים
 \, הקישו כאן.\n&nbsp\;\n&nbsp\;\n&nbsp\; http://dwh.co.il/events/event/228
 -put-ai-to-work
DTSTART:20200616T063000Z
DTEND:20200616T120000Z
LOCATION:Online ()
SUMMARY:כנס Put AI to work
URL:http://dwh.co.il/events/event/228-put-ai-to-work
END:VEVENT
END:VCALENDAR
