BEGIN:VCALENDAR
VERSION:2.0
PRODID:-//http://dwh.co.il///NONSGML kigkonsult.se iCalcreator 2.10.15//
METHOD:PUBLISH
BEGIN:VEVENT
UID:20210514T232733UTC-4820molUbj@http://dwh.co.il/
DTSTAMP:20210514T232733Z
DESCRIPTION:בתאריך ה28.6.2020 יתקיים מפגש נוסף של קבוצת Data Platform והפעם
  בנושא Temp DB.\n\nלהלן לו'ז המפגש:\n15:00-15:15 דברי פתיחה\n15:15-16:15 T
 empDB הוא לא שירותים ציבורים\, ויטלי ברוק.\n16:15-16:30 שאלות ותשובות.\n&n
 bsp\;\nלהרשמה ולפרטים נוספים הכנסו ללינק הזה. http://dwh.co.il/events/even
 t/229-data-platform-tempdb
DTSTART:20200628T120000Z
DTEND:20200628T133000Z
LOCATION:Online ()
SUMMARY:מפגש Data Platform בנושא TempDB
URL:http://dwh.co.il/events/event/229-data-platform-tempdb
END:VEVENT
END:VCALENDAR
