BEGIN:VCALENDAR
VERSION:2.0
PRODID:-//http://dwh.co.il///NONSGML kigkonsult.se iCalcreator 2.10.15//
METHOD:PUBLISH
BEGIN:VEVENT
UID:20210514T232725UTC-1914exdF2l@http://dwh.co.il/
DTSTAMP:20210514T232725Z
DESCRIPTION:בתאריך ה16.7.2020 יתקיים מפגש יולי 2020 של&nbsp\;קבוצת Data Pla
 tform Meetup Israel.\nבתוכנית הפעם:\n10:00-10:15 דברי פתיחה\n10:15-11:15 D
 ata integration &amp\; ETL\, יוסי דרורי.\n11:15-11:30 שאלות ותשובות.\n&nbs
 p\;\nלהרשמה ולפרטים נוספים הכנסו ללינק הזה. http://dwh.co.il/events/event/
 231-2020-data-platform-meetup-israel
DTSTART:20200706T070000Z
DTEND:20200706T083000Z
LOCATION:Online ()
SUMMARY:מפגש יולי 2020 של קבוצת Data Platform Meetup Israel
URL:http://dwh.co.il/events/event/231-2020-data-platform-meetup-israel
END:VEVENT
END:VCALENDAR
