BEGIN:VCALENDAR
VERSION:2.0
PRODID:-//http://dwh.co.il///NONSGML kigkonsult.se iCalcreator 2.10.15//
METHOD:PUBLISH
BEGIN:VEVENT
UID:20210514T232712UTC-66525BV7id@http://dwh.co.il/
DTSTAMP:20210514T232712Z
DESCRIPTION:בתאריך ה22.7.2020 קבוצת Data Platform תקיים מפגש בנושא&nbsp\;SQ
 L Knowledge Graph.\n\n&nbsp\;בתוכנית:\n16:00-16:15 דברי פתיחה.\n16:15-17:1
 5 החלפת דעות עם עקרונות\, חיזוק בסיס נתונים עם SQL Knowledge Graph\, דן וו
 יצנר.\n17:15-17:30 שאלות ותשובות.\n&nbsp\;\nלהרשמה ולפרטים נוספים\, הכנסו 
 ללינק הזה. http://dwh.co.il/events/event/232-sql-knowledge-graph
DTSTART:20200722T130000Z
DTEND:20200722T143000Z
LOCATION:Online ()
SUMMARY:מפגש בנושא SQL Knowledge Graph 
URL:http://dwh.co.il/events/event/232-sql-knowledge-graph
END:VEVENT
END:VCALENDAR
