BEGIN:VCALENDAR
VERSION:2.0
PRODID:-//http://dwh.co.il///NONSGML kigkonsult.se iCalcreator 2.10.15//
METHOD:PUBLISH
BEGIN:VEVENT
UID:20210506T040417UTC-97781VDXMJ@http://dwh.co.il/
DTSTAMP:20210506T040417Z
DESCRIPTION:בתאריך ה2.2.2021 יתקיים מפגש בנושא&nbsp\;ניתוח מידע ממידע גולמי
  לDashboard.\n\n&nbsp\;את המפגש יעביר \, דוד זנש\, מנכ'ל Qset .\nלהרשמה ול
 פרטים נוספים הכנסו ללינק זה. http://dwh.co.il/events/event/253-dashboard
DTSTART:20210202T160000Z
DTEND:20210202T170000Z
LOCATION:Online ()
SUMMARY:מפגש בנושא ניתוח מידע ממידע גולמי לDashboard
URL:http://dwh.co.il/events/event/253-dashboard
END:VEVENT
END:VCALENDAR
